BEGIN:VCALENDAR
VERSION:2.0
PRODID:-//Highline String Quartet • NYC • Wedding Musicians - ECPv6.15.20//NONSGML v1.0//EN
CALSCALE:GREGORIAN
METHOD:PUBLISH
X-ORIGINAL-URL:https://www.highlinequartet.com
X-WR-CALDESC:Events for Highline String Quartet • NYC • Wedding Musicians
REFRESH-INTERVAL;VALUE=DURATION:PT1H
X-Robots-Tag:noindex
X-PUBLISHED-TTL:PT1H
BEGIN:VTIMEZONE
TZID:America/New_York
BEGIN:DAYLIGHT
TZOFFSETFROM:-0500
TZOFFSETTO:-0400
TZNAME:EDT
DTSTART:20250309T070000
END:DAYLIGHT
BEGIN:STANDARD
TZOFFSETFROM:-0400
TZOFFSETTO:-0500
TZNAME:EST
DTSTART:20251102T060000
END:STANDARD
BEGIN:DAYLIGHT
TZOFFSETFROM:-0500
TZOFFSETTO:-0400
TZNAME:EDT
DTSTART:20260308T070000
END:DAYLIGHT
BEGIN:STANDARD
TZOFFSETFROM:-0400
TZOFFSETTO:-0500
TZNAME:EST
DTSTART:20261101T060000
END:STANDARD
BEGIN:DAYLIGHT
TZOFFSETFROM:-0500
TZOFFSETTO:-0400
TZNAME:EDT
DTSTART:20270314T070000
END:DAYLIGHT
BEGIN:STANDARD
TZOFFSETFROM:-0400
TZOFFSETTO:-0500
TZNAME:EST
DTSTART:20271107T060000
END:STANDARD
END:VTIMEZONE
BEGIN:VEVENT
DTSTART;TZID=America/New_York:20260321T203000
DTEND;TZID=America/New_York:20260321T213000
DTSTAMP:20260425T201202
CREATED:20260226T000525Z
LAST-MODIFIED:20260316T000514Z
UID:5593-1774125000-1774128600@www.highlinequartet.com
SUMMARY:Candlelight: Long Live the Rock Legends
DESCRIPTION:Overview\nCandlelight concerts bring the magic of a live\, multi-sensory musical experience to awe-inspiring locations like never seen before in New York. Get your tickets now to discover the music of Queen at St Marks Episcopal Church under the gentle glow of candlelight. \nGeneral Info\n\n📍 Venue: St Marks Episcopal Church\n⏳ Duration: 60 minutes. Doors open 45 minutes before the show. No entry once it starts.\n👤 Age requirement: 8 years old or older. Anyone under the age of 16 must be accompanied by an adult\n♿ Accessibility: This venue is ADA compliant\n🪑 Seating: Seating is assigned on a first come first served basis in each zone\n\nTentative Program\nQueen: \n\n“Don’t Stop Me Now”\n“Killer Queen”\n“Somebody to Love”\n“Love of My Life”\n“Crazy Little Thing Called Love”\n“Under Pressure” (Queen and David Bowie)\n“Bohemian Rhapsody”\n“Fat Bottomed Girls”\n“We Will Rock You”\n“Another One Bites The Dust”\n“We Are The Champions”\n\nOther Works: \n\nGianni Schicchi\, “O Mio Babbino Caro” – Giacomo Puccini\nLa Boheme\, SC 67\, Act 2: “Quando m’en Vo’ (Musetta’s Waltz)” – Giacomo Puccini\nDie Zauberflöte (The Magic Flute)\, K. 620\, Act 2: “Der Hölle Rache Kocht in Meinem Herzen (Queen of the Night Aria)” – W. A. Mozart\n\nPerformers\n🎻 Highline String Quartet \nBook a Private Event\nLooking to create an unforgettable experience for your wedding\, or special occasion? We offer private event bookings with customized programs tailored to your needs. \nGet a quote
URL:https://www.highlinequartet.com/concert/candlelight-long-live-the-rock-legends/
LOCATION:St. Mark’s Episcopal Church\, Westchester County\, NY\, United States
CATEGORIES:Westchester County, NY
ATTACH;FMTTYPE=image/jpeg:https://www.highlinequartet.com/wp-content/uploads/2026/02/a6663a32-193f-11f0-9a14-961efeb2b763-LJXtY1-ECN0C1.jpg
GEO:41.1220194;-73.7948516
END:VEVENT
BEGIN:VEVENT
DTSTART;TZID=America/New_York:20260320T204500
DTEND;TZID=America/New_York:20260320T214500
DTSTAMP:20260425T201202
CREATED:20260226T000525Z
LAST-MODIFIED:20260316T000512Z
UID:5592-1774039500-1774043100@www.highlinequartet.com
SUMMARY:Candlelight: Vivaldi’s Four Seasons & More
DESCRIPTION:Overview\nCandlelight concerts bring the magic of a live\, multi-sensory musical experience to awe-inspiring locations like never seen before in New York. Get your tickets now to discover the music of Vivaldi’s Four Seasons & More at St Marks Episcopal Church under the gentle glow of candlelight. \nGeneral Info\n\n📍 Venue: St Marks Episcopal Church\n⏳ Duration: 60 minutes. Doors open 45 minutes before the show. No entry once it starts.\n👤 Age requirement: 8 years old or older. Anyone under the age of 16 must be accompanied by an adult\n♿ Accessibility: This venue is ADA compliant\n🪑 Seating: Seating is assigned on a first come first served basis in each zone\n\nTentative Program\n\nThe Four Seasons\, Violin Concerto in G Minor\, Op. 8 No. 1 RV 269: “Spring” – Vivaldi\nThe Four Seasons\, Violin Concerto in G Minor\, Op. 8 No. 2 RV 315: “Summer” – Vivaldi\nThaïs: Méditation – Jules Massenet\nRecomposed by Max Richter: Vivaldi\, The Four Seasons: “Spring 3” – Max Richter\nThe Cuatro Estaciones Porteñas: Verano Porteño – Astor Piazzolla\nLibertango – Astor Piazzolla\nThe Four Seasons\, Violin Concerto in G Minor\, Op. 8 No. 3 RV 293: “Autumn” – Vivaldi\nThe Four Seasons\, Violin Concerto in G Minor\, Op. 8 No. 4 RV 297: “Winter” – Vivaldi\n\nPerformers\n🎻 Highline String Quartet \nBook a Private Event\nLooking to create an unforgettable experience for your wedding\, or special occasion? We offer private event bookings with customized programs tailored to your needs. \nGet a quote
URL:https://www.highlinequartet.com/concert/candlelight-vivaldis-four-seasons-more-2/
LOCATION:St. Mark’s Episcopal Church\, Westchester County\, NY\, United States
CATEGORIES:Westchester County, NY
ATTACH;FMTTYPE=image/jpeg:https://www.highlinequartet.com/wp-content/uploads/2026/01/9f8fa516-1ab3-11f0-acbb-460e748c3556-z1oZCe-n34AlJ.jpg
GEO:41.1220194;-73.7948516
END:VEVENT
BEGIN:VEVENT
DTSTART;TZID=America/New_York:20260123T181500
DTEND;TZID=America/New_York:20260123T191500
DTSTAMP:20260425T201202
CREATED:20260121T095545Z
LAST-MODIFIED:20260126T203420Z
UID:5425-1769192100-1769195700@www.highlinequartet.com
SUMMARY:Candlelight: Vivaldi’s Four Seasons & More
DESCRIPTION:Overview\nCandlelight concerts bring the magic of a live\, multi-sensory musical experience to awe-inspiring locations like never seen before in New York. Get your tickets now to discover the music of Vivaldi’s Four Seasons & More at St Marks Episcopal Church under the gentle glow of candlelight. \nGeneral Info\n\n📍 Venue: St Marks Episcopal Church\n⏳ Duration: 60 minutes. Doors open 45 minutes before the show and close 5 minutes prior to the start. Late arrivals will not be permitted\n👤 Age requirement: 8 years old or older. Anyone under the age of 16 must be accompanied by an adult\n♿ Accessibility: This venue is ADA compliant\n🪑 Seating: Seating is assigned on a first come first served basis in each zone\n\nTentative Program\n\nThe Four Seasons\, Violin Concerto in G Minor\, Op. 8 No. 1 RV 269: “Spring” – Vivaldi\nThe Four Seasons\, Violin Concerto in G Minor\, Op. 8 No. 2 RV 315: “Summer” – Vivaldi\nThaïs: Méditation – Jules Massenet\nRecomposed by Max Richter: Vivaldi\, The Four Seasons: “Spring 3” – Max Richter\nThe Cuatro Estaciones Porteñas: Verano Porteño – Astor Piazzolla\nLibertango – Astor Piazzolla\nThe Four Seasons\, Violin Concerto in G Minor\, Op. 8 No. 3 RV 293: “Autumn” – Vivaldi\nThe Four Seasons\, Violin Concerto in G Minor\, Op. 8 No. 4 RV 297: “Winter” – Vivaldi\n\nPerformers\n🎻 Highline String Quartet \nBook a Private Event\nLooking to create an unforgettable experience for your wedding\, or special occasion? We offer private event bookings with customized programs tailored to your needs. \nGet a quote
URL:https://www.highlinequartet.com/concert/candlelight-vivaldis-four-seasons-more/
LOCATION:St. Mark’s Episcopal Church\, Westchester County\, NY\, United States
CATEGORIES:Westchester County, NY
ATTACH;FMTTYPE=image/jpeg:https://www.highlinequartet.com/wp-content/uploads/2026/01/9f8fa516-1ab3-11f0-acbb-460e748c3556-z1oZCe-n34AlJ.jpg
GEO:41.1220194;-73.7948516
END:VEVENT
END:VCALENDAR